BEGIN:VCALENDAR
VERSION:2.0
PRODID:-// eRoom plugin //NONSGML v1.0//EN
CALSCALE:GREGORIAN
BEGIN:VEVENT
UID:eRoom-1777064093
SUMMARY:Microbiology Lecture 7
LOCATION:Zoom
DESCRIPTION:Dr.Heba Tutoring is inviting you to a scheduled Zoom meeting.\n
 \nTopic: Microbiology Lecture 7\nTime: Apr 15\, 2026 02:32 PM Universal Ti
 me UTC\nJoin Zoom Meeting\nhttps://us06web.zoom.us/j/82450515278?pwd=ajw8D
 PvhROz7uFOpbVRatMQFTtzkVP.1\n\nMeeting ID: 824 5051 5278\nPasscode: 12345
 \n\n---\n\nOne tap mobile\n+15074734847\,\,82450515278#\,\,\,\,*12345# US
 \n+15642172000\,\,82450515278#\,\,\,\,*12345# US\n\n\n---\n\nJoin by SIP\n
 • 82450515278@zoomcrc.com\n\nJoin instructions\nhttps://us06web.zoom.us/
 meetings/82450515278/invitations?signature=lX-gb_i6fpoNYwM3DgwjHX8HNMs2EiJ
 Q3hQgq-TJWbU\n\n
URL;VALUE=URI:https://us06web.zoom.us/j/82450515278?pwd=ajw8DPvhROz7uFOpbVRatMQFTtzkVP.1
DTSTART:20260415T143200Z
DTEND:20260415T153200Z
DTSTAMP:20260424T205453Z
BEGIN:VALARM
ACTION:DISPLAY
DESCRIPTION:Reminder
TRIGGER;RELATED=START:-PT15M
END:VALARM
END:VEVENT
END:VCALENDAR